BEGIN:VCALENDAR
VERSION:2.0
PRODID:-//wp-events-plugin.com//7.2.3.1//EN
TZID:Europe/Berlin
X-WR-TIMEZONE:Europe/Berlin
BEGIN:VEVENT
UID:7@lotus-gesang.de
DTSTART;TZID=Europe/Berlin:20251029T190000
DTEND;TZID=Europe/Berlin:20251029T203000
DTSTAMP:20251029T153836Z
URL:https://lotus-gesang.de/events/der-trauer-raum-geben-mantra-singkreis/
SUMMARY:Der Trauer Raum geben - Mantra-Singkreis
DESCRIPTION:Trauer gehört zu unserem Menschsein – manchmal still und lei
 se\, manchmal überwältigend. An diesem Abend laden wir dich ein\, deiner
  Trauer Raum zu geben: behutsam\, getragen und in Gemeinschaft.\nWir singe
 n Lieder aus verschiedenen spirituellen und religiösen Traditionen der We
 lt. Sie schenken uns Halt\, verbinden uns mit der Kraft des Lebens und öf
 fnen einen geschützten Resonanzraum\, in dem Trauer sich zeigen und wande
 ln darf.\n\nKeine Singstimme oder Vorerfahrung nötig – jede*r ist willk
 ommen. Die Kraft liegt im gemeinsamen Klang\, nicht in der Perfektion.\n\n
 Infos : Anke Wittenbecher - anke@lotus-gesang.de  - 0174-3867803 (SMS)\n\
 n
ATTACH;FMTTYPE=image/jpeg:https://lotus-gesang.de/wp-content/uploads/2025/
 01/38a70286-eb2f-4699-8507-532a98112980.jpg
LOCATION:GesundheitsPraxis\, Wiesenstraße 14\, Göttingen\, Deutschland
X-APPLE-STRUCTURED-LOCATION;VALUE=URI;X-ADDRESS=Wiesenstraße 14\, Götting
 en\, Deutschland;X-APPLE-RADIUS=100;X-TITLE=GesundheitsPraxis:geo:0,0
END:VEVENT
BEGIN:VTIMEZONE
TZID:Europe/Berlin
X-LIC-LOCATION:Europe/Berlin
BEGIN:STANDARD
DTSTART:20251026T020000
TZOFFSETFROM:+0200
TZOFFSETTO:+0100
TZNAME:CET
END:STANDARD
END:VTIMEZONE
END:VCALENDAR